Workbook

Sheet 1
D2: Всего за период с | G2: 41275 | I2: по | J2: 41305 | M2: =IF(Одноименность!H5<>0,"НАРУШЕН ЛИМИТ!!!","-") -> -
D3: заключено | F3: =I5+I9+I10+I11 -> 2 | G3: договоров на сумму | J3: =L5+L9+L10+L11 -> 550000 | X3: =Одноименность!H5 -> 0
D4: из них по результатам процедур:
D5: закупки у единственного поставщика, подрядчика, исполнителя | I5: =SUM(I7:I8) -> 2 | J5: на сумму | L5: =SUM(L7:L8) -> 550000 | N5: =IF(M5<>0,L5-M5,0) -> 0 | O5: расторгнуто договоров | P5: =N12+[1]Договоры!$Y$3 -> 0 | S5: =O12 -> 0
D6: из них | O6: изменено договоров | P6: =P12 -> 0 | S6: =Q12 -> 0
E7: В соответствии с пп.1 и пп.2, пп. 2.1 п. 8.8.2 Положения (ест.монополии, ресурсоснабжение, аренда) | I7: =W12 -> 1 | J7: на сумму | L7: =X12 -> 200000
E8: В соответсвии с пп.7 п. 8.8.2 (малые закупки) | I8: =U12 -> 1 | J8: на сумму | L8: =V12 -> 350000
D9: запросов цен | I9: =Y12 -> 0 | J9: на сумму | L9: =Z12 -> 0
D10: конкурсов | I10: =AA12 -> 0 | J10: на сумму | L10: =AB12 -> 0
D11: аукционов | I11: =AC12 -> 0 | J11: на сумму | L11: =AD12 -> 0 | M11: =M12-L12 -> 2620568.8
A12: =SUM(A16:A2901) -> 2 | L12: =SUM(L16:L32001) -> 550000 | M12: =L12+[1]Договоры!$P$3-[1]Договоры!$P$18 -> 3170568.8 | N12: =SUM(N16:N32001) -> 0 | O12: =SUM(O16:O32001) -> 0 | P12: =SUM(P16:P32001) -> 0 | Q12: =SUM(Q16:Q32001) -> 0 | R12: =SUM(R16:R32001) -> 0 | S12: =SUM(S16:S32001) -> 0 | U12: =SUM(U16:U2105) -> 1 | V12: =SUM(V16:V2105) -> 350000 | W12: =SUM(W16:W2105) -> 1 | X12: =SUM(X16:X2105) -> 200000 | Y12: =SUM(Y16:Y2105) -> 0 | Z12: =SUM(Z16:Z2105) -> 0 | AA12: =SUM(AA16:AA2105) -> 0 | AB12: =SUM(AB16:AB2105) -> 0 | ... AE12: =SUM(AE16:AE2105) -> 350000 | AF12: =SUM(AF16:AF15305) -> 350000 | AG12: =SUM(AG16:AG15305) -> 0 | AH12: =SUM(AH16:AH15305) -> 0 | AI12: =SUM(AI16:AI15305) -> 0 | AJ12: =SUM(AJ16:AJ15305) -> 0 | AK12: =SUM(AK16:AK15305) -> 0 | AL12: =SUM(AL16:AL15305) -> 0 | AM12: =SUM(AM16:AM15305) -> 0 | ... CD12: =SUM(CD16:CD15305) -> 0
A13: Счетчик закупок | C13: субсидия | D13: Вид закупки | E13: Дата, номер извещения о закупке | F13: ЯНВАРЬ (дата регистрации обязательства) | G13: Дата договора / Авансового отчета | H13: Номер договора / авансового отчета | I13: Исполнитель | J13: Предмет договора (ЗАКУПАЕМЫЕ ТОВАРЫ, РАБОТЫ, УСЛУГИ) | K13: ОКПД | L13: Сумма | M13: Основание заключения договора указанным способом закупки | N13: Договор расторгнут | O13: Сумма расторгнутых | P13: Кол-во измененных | R13: Подано заявок на участие | S13: Начальная цена | T13: Группа одноименности в соотв. С приказом Минфина №601 (для упрощения контроля одноименности) | U13: ЕП (малые закупки) | W13: М | Y13: ЗЦ | AA13: К | AC13: А
Q14: Изменение суммы | AF14: Бензин и дизельное топливо | AG14: Организация спортмероприятий | AH14: Услуги по ремонту транспортных средств | AI14: Канцелярские товары, канц.принадлежности бумажные | AJ14: Услуги по канализации, удалению отходов, сан. Обработке и аналогичные услуги | AK14: Производственное и промышленное оборудование | AL14: Препараты и средства медицинские прочие | AM14: Металлы и изделия из металла, а также услуги по их производству | AN14: Хим.вещества, хим.продукты и хим.волокна, а также услуги по их производству | AO14: Полимерные изделия и услуги по их производству | AP14: Товары спротивные | AQ14: Услуги в области коммерческой и технической деятельности прочие, не включенные в другие группировки | AR14: Услуги по аренде машин и оборудования | AS14: Услуги по розничной торговле | AT14: Услуги в области кино, радиовещания, телевидения, театра и видах искусства прочих | AU14: Услуги в области образования прочие | AV14: Продукция растениеводства | AW14: Мыло и моющие ср-ва, чистящие и полирующие препараты, косметические средства | AX14: Текстильные изделия и услуги по их производству | AY14: Целлюлоза, бумага и изделия из бумаги, услуги | AZ14: Услуги по аренде предметов личного пользования | BA14: Услуги ресторанов | BB14: Хозяйственно-бытовые товары | BC14: Бытовая техника. Офисная техника и электроника | BD14: Печатная продукция | BE14: Услуги электросвязи | BF14: Резиновые изделия и услуги по их производству | BG14: Услуги в сфере обеспечения безопасности | BH14: Нефть и услуги, связанные с добычей нефти, продукты нефтепереработки | BI14: Полиграфические услуги | BJ14: Строительные материалы и стоительные смеси | BK14: Электрооборудование | BL14: Осветительное оборудование | BM14: Услуги по ремонту бытовых товаров и предметов личного пользования | BN14: Услуги в области рекламы | BO14: Юридические услуги и услуги в бласти коммерческой деятельности | BP14: Услуги транспорта | BQ14: Жилищно-коммунальные услуги | BR14: Автотранспорт, автозапчасти и аксессуары | BS14: Услуги, связанные с деятельностью по использованию компьютеров | BT14: Мебель и услуги в производстве мебели | BU14: Услуги гостиниц и обслуживания | BV14: Работы по строительству, реконструкции, кап.ремонту | BW14: Системные и прикладные программные средства | BX14: Одежда и услуги по производству | BY14: Стекло | BZ14: Емкости и резервуары из металла | CA14: Средства измерений | CB14: Услуги по финансовомупосредничеству
AF15: 45 | AG15: 218 | AH15: 115 | AI15: 40 | AJ15: 213 | AK15: 121 | AL15: 102 | AM15: 118 | AN15: 48 | AO15: 108 | AP15: 165 | AQ15: 203 | AR15: 190 | AS15: 177 | AT15: 216 | AU15: 210 | AV15: 9 | AW15: 105 | AX15: 32 | AY15: 39 | AZ15: 191 | BA15: 179 | BB15: 168 | BC15: 126 | BD15: 41 | BE15: 185 | BF15: 107 | BG15: 204 | BH15: 15 | BI15: 42 | BJ15: 113 | BK15: 129 | BL15: 130 | BM15: 116 | BN15: 202 | BO15: 199 | BP15: 180 | BQ15: 220 | BR15: 155 | BS15: 192 | BT15: 162 | BU15: 178 | BV15: 221 | BW15: 196 | BX15: 33 | BY15: 109 | BZ15: 119 | CA15: 154 | CB15: 186
A16: 1 | B16: =IF(D16="ЕП",IF((AE16=0),1,0),0) -> 0 | D16: М | E16: №31300092045 от 09.01.2013 | F16: 41269 | G16: 41275 | H16: 2006335 | I16: ОАО "Ростелеком" | J16: Услуги связи | K16: 6420000 | L16: 200000 | M16: пп.1 п.8.8.2. части 8.8. | U16: =IF(D16="ЕП",1,0) -> 0 | V16: =IF(D16="ЕП",L16,0) -> 0 | W16: =IF(D16="М",1,0) -> 1 | X16: =IF(D16="М",L16,0) -> 200000 | Y16: =IF(D16="ЗЦ",1,0) -> 0 | Z16: =IF(D16="ЗЦ",L16,0) -> 0 | AA16: =IF(D16="К",1,0) -> 0 | AB16: =IF(D16="К",L16,0) -> 0 | AC16: =IF(D16="А",1,0) -> 0 | AD16: =IF(D16="А",L16,0) -> 0 | AE16: =SUM(AF16:DD16) -> 0 | AF16: =IF(AND(M16="пп.7 п.8.8.2. части 8.8.",T16=$AF$15),L16,0) -> 0
A17: 1 | B17: =IF(D17="ЕП",IF((AE17=0),1,0),0) -> 0 | D17: ЕП | E17: №31300092023 от 09.01.2013 | F17: 41269 | G17: 41275 | H17: 5810413/0075Д | I17: ООО "РН-Карт-Томск" | J17: ГСМ (бензин) | K17: 2320210 | L17: 350000 | M17: =IF(D17="ЕП","пп.7 п.8.8.2. части 8.8.","-") -> пп.7 п.8.8.2. части 8.8. | T17: 45 | U17: =IF(D17="ЕП",1,0) -> 1 | V17: =IF(D17="ЕП",L17,0) -> 350000 | W17: =IF(D17="М",1,0) -> 0 | X17: =IF(D17="М",L17,0) -> 0 | Y17: =IF(D17="ЗЦ",1,0) -> 0 | Z17: =IF(D17="ЗЦ",L17,0) -> 0 | AA17: =IF(D17="К",1,0) -> 0 | AB17: =IF(D17="К",L17,0) -> 0 | AC17: =IF(D17="А",1,0) -> 0 | AD17: =IF(D17="А",L17,0) -> 0 | AE17: =SUM(AF17:DD17) -> 350000 | AF17: =IF(AND(M17="пп.7 п.8.8.2. части 8.8.",T17=$AF$15),L17,0) -> 350000 | AG17: =IF(AND(M17="пп.7 п.8.8.2. части 8.8.",T17=$AG$15),L17,0) -> 0 | AH17: =IF(AND(M17="пп.7 п.8.8.2. части 8.8.",T17=$AH$15),L17,0) -> 0 | AI17: =IF(AND(M17="пп.7 п.8.8.2. части 8.8.",T17=$AI$15),L17,0) -> 0 | AJ17: =IF(AND(M17="пп.7 п.8.8.2. части 8.8.",T17=$AJ$15),L17,0) -> 0 | AK17: =IF(AND(M17="пп.7 п.8.8.2. части 8.8.",T17=$AK$15),L17,0) -> 0 | AL17: =IF(AND(M17="пп.7 п.8.8.2. части 8.8.",T17=$AL$15),L17,0) -> 0 | AM17: =IF(AND(M17="пп.7 п.8.8.2. части 8.8.",T17=$AM$15),L17,0) -> 0 | AN17: =IF(AND(M17="пп.7 п.8.8.2. части 8.8.",T17=$AN$15),L17,0) -> 0 | AO17: =IF(AND(M17="пп.7 п.8.8.2. части 8.8.",T17=$AO$15),L17,0) -> 0 | AP17: =IF(AND(M17="пп.7 п.8.8.2. части 8.8.",T17=$AP$15),L17,0) -> 0 | AQ17: =IF(AND(M17="пп.7 п.8.8.2. части 8.8.",T17=$AQ$15),L17,0) -> 0 | AR17: =IF(AND(M17="пп.7 п.8.8.2. части 8.8.",T17=$AR$15),L17,0) -> 0 | AS17: =IF(AND(M17="пп.7 п.8.8.2. части 8.8.",T17=$AS$15),L17,0) -> 0 | AT17: =IF(AND(M17="пп.7 п.8.8.2. части 8.8.",T17=$AT$15),L17,0) -> 0 | AU17: =IF(AND(M17="пп.7 п.8.8.2. части 8.8.",T17=$AU$15),L17,0) -> 0 | AV17: =IF(AND(M17="пп.7 п.8.8.2. части 8.8.",T17=$AV$15),L17,0) -> 0 | AW17: =IF(AND(M17="пп.7 п.8.8.2. части 8.8.",T17=$AW$15),L17,0) -> 0 | AX17: =IF(AND(M17="пп.7 п.8.8.2. части 8.8.",T17=$AX$15),L17,0) -> 0 | AY17: =IF(AND(M17="пп.7 п.8.8.2. части 8.8.",T17=$AY$15),L17,0) -> 0 | AZ17: =IF(AND(M17="пп.7 п.8.8.2. части 8.8.",T17=$AZ$15),L17,0) -> 0 | BA17: =IF(AND(M17="пп.7 п.8.8.2. части 8.8.",T17=$BA$15),L17,0) -> 0 | BB17: =IF(AND(M17="пп.7 п.8.8.2. части 8.8.",T17=$BB$15),L17,0) -> 0 | BC17: =IF(AND(M17="пп.7 п.8.8.2. части 8.8.",T17=$BC$15),L17,0) -> 0 | BD17: =IF(AND(M17="пп.7 п.8.8.2. части 8.8.",T17=$BD$15),L17,0) -> 0 | BE17: =IF(AND(M17="пп.7 п.8.8.2. части 8.8.",T17=$BE$15),L17,0) -> 0 | BF17: =IF(AND(M17="пп.7 п.8.8.2. части 8.8.",T17=$BF$15),L17,0) -> 0 | BG17: =IF(AND(M17="пп.7 п.8.8.2. части 8.8.",T17=$BG$15),L17,0) -> 0 | BH17: =IF(AND(M17="пп.7 п.8.8.2. части 8.8.",T17=$BH$15),L17,0) -> 0 | BI17: =IF(AND(M17="пп.7 п.8.8.2. части 8.8.",T17=$BI$15),L17,0) -> 0 | BJ17: =IF(AND(M17="пп.7 п.8.8.2. части 8.8.",T17=$BJ$15),L17,0) -> 0 | BK17: =IF(AND(M17="пп.7 п.8.8.2. части 8.8.",T17=$BK$15),L17,0) -> 0 | BL17: =IF(AND(M17="пп.7 п.8.8.2. части 8.8.",T17=$BL$15),L17,0) -> 0 | BM17: =IF(AND(M17="пп.7 п.8.8.2. части 8.8.",T17=$BM$15),L17,0) -> 0 | BN17: =IF(AND(M17="пп.7 п.8.8.2. части 8.8.",T17=$BN$15),L17,0) -> 0 | BO17: =IF(AND(M17="пп.7 п.8.8.2. части 8.8.",T17=$BO$15),L17,0) -> 0 | BP17: =IF(AND(M17="пп.7 п.8.8.2. части 8.8.",T17=$BP$15),L17,0) -> 0 | BQ17: =IF(AND(M17="пп.7 п.8.8.2. части 8.8.",T17=$BQ$15),L17,0) -> 0 | BR17: =IF(AND(M17="пп.7 п.8.8.2. части 8.8.",T17=$BR$15),L17,0) -> 0 | CB17: =IF(AND(M17="пп.7 п.8.8.2. части 8.8.",T17=$CB$15),L17,0) -> 0
U163: =IF(D163="ЕП",1,0) -> 0 | V163: =IF(D163="ЕП",L163,0) -> 0 | W163: =IF(D163="М",1,0) -> 0 | X163: =IF(D163="М",L163,0) -> 0 | Y163: =IF(D163="ЗЦ",1,0) -> 0 | Z163: =IF(D163="ЗЦ",L163,0) -> 0 | AA163: =IF(D163="К",1,0) -> 0 | AB163: =IF(D163="К",L163,0) -> 0 | AC163: =IF(D163="А",1,0) -> 0 | AD163: =IF(D163="А",L163,0) -> 0 | AE163: =SUM(AF163:DD163) -> 0 | AF163: =IF(AND(M163="пп.7 п.8.8.2. части 8.8.",T163=$AF$15),L163,0) -> 0 | AG163: =IF(AND(M163="пп.7 п.8.8.2. части 8.8.",T163=$AG$15),L163,0) -> 0 | AH163: =IF(AND(M163="пп.7 п.8.8.2. части 8.8.",T163=$AH$15),L163,0) -> 0 | AI163: =IF(AND(M163="пп.7 п.8.8.2. части 8.8.",T163=$AI$15),L163,0) -> 0 | AJ163: =IF(AND(M163="пп.7 п.8.8.2. части 8.8.",T163=$AJ$15),L163,0) -> 0 | AK163: =IF(AND(M163="пп.7 п.8.8.2. части 8.8.",T163=$AK$15),L163,0) -> 0 | AL163: =IF(AND(M163="пп.7 п.8.8.2. части 8.8.",T163=$AL$15),L163,0) -> 0 | AM163: =IF(AND(M163="пп.7 п.8.8.2. части 8.8.",T163=$AM$15),L163,0) -> 0 | AN163: =IF(AND(M163="пп.7 п.8.8.2. части 8.8.",T163=$AN$15),L163,0) -> 0 | AO163: =IF(AND(M163="пп.7 п.8.8.2. части 8.8.",T163=$AO$15),L163,0) -> 0 | AP163: =IF(AND(M163="пп.7 п.8.8.2. части 8.8.",T163=$AP$15),L163,0) -> 0 | AQ163: =IF(AND(M163="пп.7 п.8.8.2. части 8.8.",T163=$AQ$15),L163,0) -> 0 | AR163: =IF(AND(M163="пп.7 п.8.8.2. части 8.8.",T163=$AR$15),L163,0) -> 0 | AS163: =IF(AND(M163="пп.7 п.8.8.2. части 8.8.",T163=$AS$15),L163,0) -> 0 | AT163: =IF(AND(M163="пп.7 п.8.8.2. части 8.8.",T163=$AT$15),L163,0) -> 0 | AU163: =IF(AND(M163="пп.7 п.8.8.2. части 8.8.",T163=$AU$15),L163,0) -> 0 | AV163: =IF(AND(M163="пп.7 п.8.8.2. части 8.8.",T163=$AV$15),L163,0) -> 0 | AW163: =IF(AND(M163="пп.7 п.8.8.2. части 8.8.",T163=$AW$15),L163,0) -> 0 | AX163: =IF(AND(M163="пп.7 п.8.8.2. части 8.8.",T163=$AX$15),L163,0) -> 0 | AY163: =IF(AND(M163="пп.7 п.8.8.2. части 8.8.",T163=$AY$15),L163,0) -> 0 | AZ163: =IF(AND(M163="пп.7 п.8.8.2. части 8.8.",T163=$AZ$15),L163,0) -> 0 | BA163: =IF(AND(M163="пп.7 п.8.8.2. части 8.8.",T163=$BA$15),L163,0) -> 0 | BB163: =IF(AND(M163="пп.7 п.8.8.2. части 8.8.",T163=$BB$15),L163,0) -> 0 | BC163: =IF(AND(M163="пп.7 п.8.8.2. части 8.8.",T163=$BC$15),L163,0) -> 0 | BD163: =IF(AND(M163="пп.7 п.8.8.2. части 8.8.",T163=$BD$15),L163,0) -> 0 | BE163: =IF(AND(M163="пп.7 п.8.8.2. части 8.8.",T163=$BE$15),L163,0) -> 0 | BF163: =IF(AND(M163="пп.7 п.8.8.2. части 8.8.",T163=$BF$15),L163,0) -> 0 | BG163: =IF(AND(M163="пп.7 п.8.8.2. части 8.8.",T163=$BG$15),L163,0) -> 0 | BH163: =IF(AND(M163="пп.7 п.8.8.2. части 8.8.",T163=$BH$15),L163,0) -> 0 | BI163: =IF(AND(M163="пп.7 п.8.8.2. части 8.8.",T163=$BI$15),L163,0) -> 0 | BJ163: =IF(AND(M163="пп.7 п.8.8.2. части 8.8.",T163=$BJ$15),L163,0) -> 0 | BK163: =IF(AND(M163="пп.7 п.8.8.2. части 8.8.",T163=$BK$15),L163,0) -> 0 | BL163: =IF(AND(M163="пп.7 п.8.8.2. части 8.8.",T163=$BL$15),L163,0) -> 0 | BM163: =IF(AND(M163="пп.7 п.8.8.2. части 8.8.",T163=$BM$15),L163,0) -> 0 | BN163: =IF(AND(M163="пп.7 п.8.8.2. части 8.8.",T163=$BN$15),L163,0) -> 0 | BO163: =IF(AND(M163="пп.7 п.8.8.2. части 8.8.",T163=$BO$15),L163,0) -> 0 | BP163: =IF(AND(M163="пп.7 п.8.8.2. части 8.8.",T163=$BP$15),L163,0) -> 0 | BQ163: =IF(AND(M163="пп.7 п.8.8.2. части 8.8.",T163=$BQ$15),L163,0) -> 0 | BR163: =IF(AND(M163="пп.7 п.8.8.2. части 8.8.",T163=$BR$15),L163,0) -> 0 | CB163: =IF(AND(M163="пп.7 п.8.8.2. части 8.8.",T163=$CB$15),L163,0) -> 0
U164: =IF(D164="ЕП",1,0) -> 0 | V164: =IF(D164="ЕП",L164,0) -> 0 | W164: =IF(D164="М",1,0) -> 0 | X164: =IF(D164="М",L164,0) -> 0 | Y164: =IF(D164="ЗЦ",1,0) -> 0 | Z164: =IF(D164="ЗЦ",L164,0) -> 0 | AA164: =IF(D164="К",1,0) -> 0 | AB164: =IF(D164="К",L164,0) -> 0 | AC164: =IF(D164="А",1,0) -> 0 | AD164: =IF(D164="А",L164,0) -> 0 | AE164: =SUM(AF164:DD164) -> 0 | AF164: =IF(AND(M164="пп.7 п.8.8.2. части 8.8.",T164=$AF$15),L164,0) -> 0 | AG164: =IF(AND(M164="пп.7 п.8.8.2. части 8.8.",T164=$AG$15),L164,0) -> 0 | AH164: =IF(AND(M164="пп.7 п.8.8.2. части 8.8.",T164=$AH$15),L164,0) -> 0 | AI164: =IF(AND(M164="пп.7 п.8.8.2. части 8.8.",T164=$AI$15),L164,0) -> 0 | AJ164: =IF(AND(M164="пп.7 п.8.8.2. части 8.8.",T164=$AJ$15),L164,0) -> 0 | AK164: =IF(AND(M164="пп.7 п.8.8.2. части 8.8.",T164=$AK$15),L164,0) -> 0 | AL164: =IF(AND(M164="пп.7 п.8.8.2. части 8.8.",T164=$AL$15),L164,0) -> 0 | AM164: =IF(AND(M164="пп.7 п.8.8.2. части 8.8.",T164=$AM$15),L164,0) -> 0 | AN164: =IF(AND(M164="пп.7 п.8.8.2. части 8.8.",T164=$AN$15),L164,0) -> 0 | AO164: =IF(AND(M164="пп.7 п.8.8.2. части 8.8.",T164=$AO$15),L164,0) -> 0 | AP164: =IF(AND(M164="пп.7 п.8.8.2. части 8.8.",T164=$AP$15),L164,0) -> 0 | AQ164: =IF(AND(M164="пп.7 п.8.8.2. части 8.8.",T164=$AQ$15),L164,0) -> 0 | AR164: =IF(AND(M164="пп.7 п.8.8.2. части 8.8.",T164=$AR$15),L164,0) -> 0 | AS164: =IF(AND(M164="пп.7 п.8.8.2. части 8.8.",T164=$AS$15),L164,0) -> 0 | AT164: =IF(AND(M164="пп.7 п.8.8.2. части 8.8.",T164=$AT$15),L164,0) -> 0 | AU164: =IF(AND(M164="пп.7 п.8.8.2. части 8.8.",T164=$AU$15),L164,0) -> 0 | AV164: =IF(AND(M164="пп.7 п.8.8.2. части 8.8.",T164=$AV$15),L164,0) -> 0 | AW164: =IF(AND(M164="пп.7 п.8.8.2. части 8.8.",T164=$AW$15),L164,0) -> 0 | AX164: =IF(AND(M164="пп.7 п.8.8.2. части 8.8.",T164=$AX$15),L164,0) -> 0 | AY164: =IF(AND(M164="пп.7 п.8.8.2. части 8.8.",T164=$AY$15),L164,0) -> 0 | AZ164: =IF(AND(M164="пп.7 п.8.8.2. части 8.8.",T164=$AZ$15),L164,0) -> 0 | BA164: =IF(AND(M164="пп.7 п.8.8.2. части 8.8.",T164=$BA$15),L164,0) -> 0 | BB164: =IF(AND(M164="пп.7 п.8.8.2. части 8.8.",T164=$BB$15),L164,0) -> 0 | BC164: =IF(AND(M164="пп.7 п.8.8.2. части 8.8.",T164=$BC$15),L164,0) -> 0 | BD164: =IF(AND(M164="пп.7 п.8.8.2. части 8.8.",T164=$BD$15),L164,0) -> 0 | BE164: =IF(AND(M164="пп.7 п.8.8.2. части 8.8.",T164=$BE$15),L164,0) -> 0 | BF164: =IF(AND(M164="пп.7 п.8.8.2. части 8.8.",T164=$BF$15),L164,0) -> 0 | BG164: =IF(AND(M164="пп.7 п.8.8.2. части 8.8.",T164=$BG$15),L164,0) -> 0 | BH164: =IF(AND(M164="пп.7 п.8.8.2. части 8.8.",T164=$BH$15),L164,0) -> 0 | BI164: =IF(AND(M164="пп.7 п.8.8.2. части 8.8.",T164=$BI$15),L164,0) -> 0 | BJ164: =IF(AND(M164="пп.7 п.8.8.2. части 8.8.",T164=$BJ$15),L164,0) -> 0 | BK164: =IF(AND(M164="пп.7 п.8.8.2. части 8.8.",T164=$BK$15),L164,0) -> 0 | BL164: =IF(AND(M164="пп.7 п.8.8.2. части 8.8.",T164=$BL$15),L164,0) -> 0 | BM164: =IF(AND(M164="пп.7 п.8.8.2. части 8.8.",T164=$BM$15),L164,0) -> 0 | BN164: =IF(AND(M164="пп.7 п.8.8.2. части 8.8.",T164=$BN$15),L164,0) -> 0 | BO164: =IF(AND(M164="пп.7 п.8.8.2. части 8.8.",T164=$BO$15),L164,0) -> 0 | BP164: =IF(AND(M164="пп.7 п.8.8.2. части 8.8.",T164=$BP$15),L164,0) -> 0 | BQ164: =IF(AND(M164="пп.7 п.8.8.2. части 8.8.",T164=$BQ$15),L164,0) -> 0 | BR164: =IF(AND(M164="пп.7 п.8.8.2. части 8.8.",T164=$BR$15),L164,0) -> 0 | CB164: =IF(AND(M164="пп.7 п.8.8.2. части 8.8.",T164=$CB$15),L164,0) -> 0
U165: =IF(D165="ЕП",1,0) -> 0 | V165: =IF(D165="ЕП",L165,0) -> 0 | W165: =IF(D165="М",1,0) -> 0 | X165: =IF(D165="М",L165,0) -> 0 | Y165: =IF(D165="ЗЦ",1,0) -> 0 | Z165: =IF(D165="ЗЦ",L165,0) -> 0 | AA165: =IF(D165="К",1,0) -> 0 | AB165: =IF(D165="К",L165,0) -> 0 | AC165: =IF(D165="А",1,0) -> 0 | AD165: =IF(D165="А",L165,0) -> 0 | AE165: =SUM(AF165:DD165) -> 0 | AF165: =IF(AND(M165="пп.7 п.8.8.2. части 8.8.",T165=$AF$15),L165,0) -> 0 | AG165: =IF(AND(M165="пп.7 п.8.8.2. части 8.8.",T165=$AG$15),L165,0) -> 0 | AH165: =IF(AND(M165="пп.7 п.8.8.2. части 8.8.",T165=$AH$15),L165,0) -> 0 | AI165: =IF(AND(M165="пп.7 п.8.8.2. части 8.8.",T165=$AI$15),L165,0) -> 0 | AJ165: =IF(AND(M165="пп.7 п.8.8.2. части 8.8.",T165=$AJ$15),L165,0) -> 0 | AK165: =IF(AND(M165="пп.7 п.8.8.2. части 8.8.",T165=$AK$15),L165,0) -> 0 | AL165: =IF(AND(M165="пп.7 п.8.8.2. части 8.8.",T165=$AL$15),L165,0) -> 0 | AM165: =IF(AND(M165="пп.7 п.8.8.2. части 8.8.",T165=$AM$15),L165,0) -> 0 | AN165: =IF(AND(M165="пп.7 п.8.8.2. части 8.8.",T165=$AN$15),L165,0) -> 0 | AO165: =IF(AND(M165="пп.7 п.8.8.2. части 8.8.",T165=$AO$15),L165,0) -> 0 | AP165: =IF(AND(M165="пп.7 п.8.8.2. части 8.8.",T165=$AP$15),L165,0) -> 0 | AQ165: =IF(AND(M165="пп.7 п.8.8.2. части 8.8.",T165=$AQ$15),L165,0) -> 0 | AR165: =IF(AND(M165="пп.7 п.8.8.2. части 8.8.",T165=$AR$15),L165,0) -> 0 | AS165: =IF(AND(M165="пп.7 п.8.8.2. части 8.8.",T165=$AS$15),L165,0) -> 0 | AT165: =IF(AND(M165="пп.7 п.8.8.2. части 8.8.",T165=$AT$15),L165,0) -> 0 | AU165: =IF(AND(M165="пп.7 п.8.8.2. части 8.8.",T165=$AU$15),L165,0) -> 0 | AV165: =IF(AND(M165="пп.7 п.8.8.2. части 8.8.",T165=$AV$15),L165,0) -> 0 | AW165: =IF(AND(M165="пп.7 п.8.8.2. части 8.8.",T165=$AW$15),L165,0) -> 0 | AX165: =IF(AND(M165="пп.7 п.8.8.2. части 8.8.",T165=$AX$15),L165,0) -> 0 | AY165: =IF(AND(M165="пп.7 п.8.8.2. части 8.8.",T165=$AY$15),L165,0) -> 0 | AZ165: =IF(AND(M165="пп.7 п.8.8.2. части 8.8.",T165=$AZ$15),L165,0) -> 0 | BA165: =IF(AND(M165="пп.7 п.8.8.2. части 8.8.",T165=$BA$15),L165,0) -> 0 | BB165: =IF(AND(M165="пп.7 п.8.8.2. части 8.8.",T165=$BB$15),L165,0) -> 0 | BC165: =IF(AND(M165="пп.7 п.8.8.2. части 8.8.",T165=$BC$15),L165,0) -> 0 | BD165: =IF(AND(M165="пп.7 п.8.8.2. части 8.8.",T165=$BD$15),L165,0) -> 0 | BE165: =IF(AND(M165="пп.7 п.8.8.2. части 8.8.",T165=$BE$15),L165,0) -> 0 | BF165: =IF(AND(M165="пп.7 п.8.8.2. части 8.8.",T165=$BF$15),L165,0) -> 0 | BG165: =IF(AND(M165="пп.7 п.8.8.2. части 8.8.",T165=$BG$15),L165,0) -> 0 | BH165: =IF(AND(M165="пп.7 п.8.8.2. части 8.8.",T165=$BH$15),L165,0) -> 0 | BI165: =IF(AND(M165="пп.7 п.8.8.2. части 8.8.",T165=$BI$15),L165,0) -> 0 | BJ165: =IF(AND(M165="пп.7 п.8.8.2. части 8.8.",T165=$BJ$15),L165,0) -> 0 | BK165: =IF(AND(M165="пп.7 п.8.8.2. части 8.8.",T165=$BK$15),L165,0) -> 0 | BL165: =IF(AND(M165="пп.7 п.8.8.2. части 8.8.",T165=$BL$15),L165,0) -> 0 | BM165: =IF(AND(M165="пп.7 п.8.8.2. части 8.8.",T165=$BM$15),L165,0) -> 0 | BN165: =IF(AND(M165="пп.7 п.8.8.2. части 8.8.",T165=$BN$15),L165,0) -> 0 | BO165: =IF(AND(M165="пп.7 п.8.8.2. части 8.8.",T165=$BO$15),L165,0) -> 0 | BP165: =IF(AND(M165="пп.7 п.8.8.2. части 8.8.",T165=$BP$15),L165,0) -> 0 | BQ165: =IF(AND(M165="пп.7 п.8.8.2. части 8.8.",T165=$BQ$15),L165,0) -> 0 | BR165: =IF(AND(M165="пп.7 п.8.8.2. части 8.8.",T165=$BR$15),L165,0) -> 0 | CB165: =IF(AND(M165="пп.7 п.8.8.2. части 8.8.",T165=$CB$15),L165,0) -> 0
U166: =IF(D166="ЕП",1,0) -> 0 | V166: =IF(D166="ЕП",L166,0) -> 0 | W166: =IF(D166="М",1,0) -> 0 | X166: =IF(D166="М",L166,0) -> 0 | Y166: =IF(D166="ЗЦ",1,0) -> 0 | Z166: =IF(D166="ЗЦ",L166,0) -> 0 | AA166: =IF(D166="К",1,0) -> 0 | AB166: =IF(D166="К",L166,0) -> 0 | AC166: =IF(D166="А",1,0) -> 0 | AD166: =IF(D166="А",L166,0) -> 0 | AE166: =SUM(AF166:DD166) -> 0 | AF166: =IF(AND(M166="пп.7 п.8.8.2. части 8.8.",T166=$AF$15),L166,0) -> 0 | AG166: =IF(AND(M166="пп.7 п.8.8.2. части 8.8.",T166=$AG$15),L166,0) -> 0 | AH166: =IF(AND(M166="пп.7 п.8.8.2. части 8.8.",T166=$AH$15),L166,0) -> 0 | AI166: =IF(AND(M166="пп.7 п.8.8.2. части 8.8.",T166=$AI$15),L166,0) -> 0 | AJ166: =IF(AND(M166="пп.7 п.8.8.2. части 8.8.",T166=$AJ$15),L166,0) -> 0 | AK166: =IF(AND(M166="пп.7 п.8.8.2. части 8.8.",T166=$AK$15),L166,0) -> 0 | AL166: =IF(AND(M166="пп.7 п.8.8.2. части 8.8.",T166=$AL$15),L166,0) -> 0 | AM166: =IF(AND(M166="пп.7 п.8.8.2. части 8.8.",T166=$AM$15),L166,0) -> 0 | AN166: =IF(AND(M166="пп.7 п.8.8.2. части 8.8.",T166=$AN$15),L166,0) -> 0 | AO166: =IF(AND(M166="пп.7 п.8.8.2. части 8.8.",T166=$AO$15),L166,0) -> 0 | AP166: =IF(AND(M166="пп.7 п.8.8.2. части 8.8.",T166=$AP$15),L166,0) -> 0 | AQ166: =IF(AND(M166="пп.7 п.8.8.2. части 8.8.",T166=$AQ$15),L166,0) -> 0 | AR166: =IF(AND(M166="пп.7 п.8.8.2. части 8.8.",T166=$AR$15),L166,0) -> 0 | AS166: =IF(AND(M166="пп.7 п.8.8.2. части 8.8.",T166=$AS$15),L166,0) -> 0 | AT166: =IF(AND(M166="пп.7 п.8.8.2. части 8.8.",T166=$AT$15),L166,0) -> 0 | AU166: =IF(AND(M166="пп.7 п.8.8.2. части 8.8.",T166=$AU$15),L166,0) -> 0 | AV166: =IF(AND(M166="пп.7 п.8.8.2. части 8.8.",T166=$AV$15),L166,0) -> 0 | CB166: =IF(AND(M166="пп.7 п.8.8.2. части 8.8.",T166=$CB$15),L166,0) -> 0

Sheet 2
D2: Всего за период с | G2: 41306 | I2: по | J2: 41333 | M2: =IF(Одноименность!H5<>0,"НАРУШЕН ЛИМИТ!!!","-") -> -
D3: заключено | F3: =I5+I9+I10+I11 -> 3 | G3: договоров на сумму | J3: =L5+L9+L10+L11 -> 29335 | X3: =Одноименность!H5 -> 0
D4: из них по результатам процедур:
D5: закупки у единственного поставщика, подрядчика, исполнителя | I5: =SUM(I7:I8) -> 3 | J5: на сумму | L5: =SUM(L7:L8) -> 29335 | M5: расторгнуто договоров | N5: =N12+[1]Договоры!$Y$3 -> 0 | Q5: =O12 -> 0
D6: из них | M6: изменено договоров | N6: =P12 -> 0 | Q6: =Q12 -> 0
E7: В соответствии с пп.1 и пп.2, пп. 2.1 п. 8.8.2 Положения (ест.монополии, ресурсоснабжение,аренда) | I7: =W12 -> 0 | L7: =X12 -> 0
E8: В соответсвии с пп.7 п. 8.8.2 (малые закупки) | I8: =U12 -> 3 | J8: на сумму | L8: =V12 -> 29335
D9: запросов цен | I9: =Y12 -> 0 | J9: на сумму | L9: =Z12 -> 0
D10: конкурсов | I10: =AA12 -> 0 | J10: на сумму | L10: =AB12 -> 0
D11: аукционов | I11: =AC12 -> 0 | J11: на сумму | L11: =AD12 -> 0
A12: =SUM(A16:A2902) -> 3 | L12: =SUM(L16:L32002) -> 29335 | N12: =SUM(N16:N32002) -> 0 | O12: =SUM(O16:O32002) -> 0 | P12: =SUM(P16:P32002) -> 0 | Q12: =SUM(Q16:Q32002) -> 0 | R12: =SUM(R16:R32002) -> 0 | S12: =SUM(S16:S32002) -> 0 | U12: =SUM(U16:U2106) -> 3 | V12: =SUM(V16:V2106) -> 29335 | W12: =SUM(W16:W2106) -> 0 | X12: =SUM(X16:X2106) -> 0 | Y12: =SUM(Y16:Y2106) -> 0 | Z12: =SUM(Z16:Z2106) -> 0 | AA12: =SUM(AA16:AA2106) -> 0 | AB12: =SUM(AB16:AB2106) -> 0 | ... AE12: =SUM(AE16:AE2106) -> 29335 | AF12: =SUM(AF16:AF15306) -> 0 | AG12: =SUM(AG16:AG15306) -> 0 | AH12: =SUM(AH16:AH15306) -> 0 | AI12: =SUM(AI16:AI15306) -> 0 | AJ12: =SUM(AJ16:AJ15306) -> 0 | AK12: =SUM(AK16:AK15306) -> 0 | AL12: =SUM(AL16:AL15306) -> 0 | AM12: =SUM(AM16:AM15306) -> 0 | ... CG12: =SUM(CG16:CG15306) -> 0
A13: Счетчик закупок | D13: Вид закупки | E13: Дата, номер извещения о закупке | F13: ФЕВРАЛЬ (дата регистрации обязательства) | G13: Дата договора / Авансового отчета | H13: Номер договора / авансового отчета | I13: Исполнитель | J13: Предмет договора (ЗАКУПАЕМЫЕ ТОВАРЫ, РАБОТЫ, УСЛУГИ) | K13: ОКПД | L13: Сумма | M13: Основание заключения договора указанным способом закупки | N13: Договор расторгнут | O13: Сумма расторгнутых | P13: Кол-во измененных | R13: Подано заявок на участие | S13: Начальная цена | T13: Группа одноименности в соотв. С приказом Минфина №601 (для упрощения контроля одноименности) | U13: ЕП (малые закупки) | W13: М | Y13: ЗЦ | AA13: К | AC13: А
Q14: Изменение суммы | AF14: ='1'!AF14 -> Бензин и дизельное топливо | AG14: ='1'!AG14 -> Организация спортмероприятий | AH14: ='1'!AH14 -> Услуги по ремонту транспортных средств | AI14: ='1'!AI14 -> Канцелярские товары, канц.принадлежности бумажные | AJ14: ='1'!AJ14 -> Услуги по канализации, удалению отходов, сан. Обработке и аналогичные услуги | AK14: ='1'!AK14 -> Производственное и промышленное оборудование | AL14: ='1'!AL14 -> Препараты и средства медицинские прочие | AM14: ='1'!AM14 -> Металлы и изделия из металла, а также услуги по их производству | ... CE14: ='1'!CE14 -> 0
AF15: ='1'!AF15 -> 45 | AG15: ='1'!AG15 -> 218 | AH15: ='1'!AH15 -> 115 | AI15: ='1'!AI15 -> 40 | AJ15: ='1'!AJ15 -> 213 | AK15: ='1'!AK15 -> 121 | AL15: ='1'!AL15 -> 102 | AM15: ='1'!AM15 -> 118 | ... CE15: ='1'!CE15 -> 0
A16: 1 | B16: =IF(D16="ЕП",IF((AE16=0),1,0),0) -> 0 | D16: ЕП | F16: 41310 | G16: 41306 | H16: 8 | I16: ООО "Маршалл" | J16: Спортивные товары (крепления, кольца на палки) | L16: 9660 | M16: =IF(D16="ЕП","пп.7 п.8.8.2. части 8.8.","-") -> пп.7 п.8.8.2. части 8.8. | T16: 165 | U16: =IF(D16="ЕП",1,0) -> 1 | V16: =IF(D16="ЕП",L16,0) -> 9660 | W16: =IF(D16="М",1,0) -> 0 | X16: =IF(D16="М",L16,0) -> 0 | Y16: =IF(D16="ЗЦ",1,0) -> 0 | Z16: =IF(D16="ЗЦ",L16,0) -> 0 | AA16: =IF(D16="К",1,0) -> 0 | AB16: =IF(D16="К",L16,0) -> 0 | AC16: =IF(D16="А",1,0) -> 0 | AD16: =IF(D16="А",L16,0) -> 0 | AE16: =SUM(AF16:DD16) -> 9660 | AF16: =IF(AND(M16="пп.7 п.8.8.2. части 8.8.",T16=$AF$15),L16,0) -> 0 | AG16: =IF(AND(M16="пп.7 п.8.8.2. части 8.8.",T16=$AG$15),L16,0) -> 0 | AH16: =IF(AND(M16="пп.7 п.8.8.2. части 8.8.",T16=$AH$15),L16,0) -> 0 | AI16: =IF(AND(M16="пп.7 п.8.8.2. части 8.8.",T16=$AI$15),L16,0) -> 0 | AJ16: =IF(AND(M16="пп.7 п.8.8.2. части 8.8.",T16=$AJ$15),L16,0) -> 0 | AK16: =IF(AND(M16="пп.7 п.8.8.2. части 8.8.",T16=$AK$15),L16,0) -> 0 | AL16: =IF(AND(M16="пп.7 п.8.8.2. части 8.8.",T16=$AL$15),L16,0) -> 0 | AM16: =IF(AND(M16="пп.7 п.8.8.2. части 8.8.",T16=$AM$15),L16,0) -> 0 | AN16: =IF(AND(M16="пп.7 п.8.8.2. части 8.8.",T16=$AN$15),L16,0) -> 0 | AO16: =IF(AND(M16="пп.7 п.8.8.2. части 8.8.",T16=$AO$15),L16,0) -> 0 | AP16: =IF(AND(M16="пп.7 п.8.8.2. части 8.8.",T16=$AP$15),L16,0) -> 9660 | AQ16: =IF(AND(M16="пп.7 п.8.8.2. части 8.8.",T16=$AQ$15),L16,0) -> 0 | AR16: =IF(AND(M16="пп.7 п.8.8.2. части 8.8.",T16=$AR$15),L16,0) -> 0 | AS16: =IF(AND(M16="пп.7 п.8.8.2. части 8.8.",T16=$AS$15),L16,0) -> 0 | AT16: =IF(AND(M16="пп.7 п.8.8.2. части 8.8.",T16=$AT$15),L16,0) -> 0 | AU16: =IF(AND(M16="пп.7 п.8.8.2. части 8.8.",T16=$AU$15),L16,0) -> 0 | AV16: =IF(AND(M16="пп.7 п.8.8.2. части 8.8.",T16=$AV$15),L16,0) -> 0 | AW16: =IF(AND(M16="пп.7 п.8.8.2. части 8.8.",T16=$AW$15),L16,0) -> 0 | AX16: =IF(AND(M16="пп.7 п.8.8.2. части 8.8.",T16=$AX$15),L16,0) -> 0 | AY16: =IF(AND(M16="пп.7 п.8.8.2. части 8.8.",T16=$AY$15),L16,0) -> 0 | AZ16: =IF(AND(M16="пп.7 п.8.8.2. части 8.8.",T16=$AZ$15),L16,0) -> 0 | BA16: =IF(AND(M16="пп.7 п.8.8.2. части 8.8.",T16=$BA$15),L16,0) -> 0 | BB16: =IF(AND(M16="пп.7 п.8.8.2. части 8.8.",T16=$BB$15),L16,0) -> 0 | BC16: =IF(AND(M16="пп.7 п.8.8.2. части 8.8.",T16=$BC$15),L16,0) -> 0 | BD16: =IF(AND(M16="пп.7 п.8.8.2. части 8.8.",T16=$BD$15),L16,0) -> 0 | BE16: =IF(AND(M16="пп.7 п.8.8.2. части 8.8.",T16=$BE$15),L16,0) -> 0 | BF16: =IF(AND(M16="пп.7 п.8.8.2. части 8.8.",T16=$BF$15),L16,0) -> 0 | BG16: =IF(AND(M16="пп.7 п.8.8.2. части 8.8.",T16=$BG$15),L16,0) -> 0 | BH16: =IF(AND(M16="пп.7 п.8.8.2. части 8.8.",T16=$BH$15),L16,0) -> 0 | BI16: =IF(AND(M16="пп.7 п.8.8.2. части 8.8.",T16=$BI$15),L16,0) -> 0 | BJ16: =IF(AND(M16="пп.7 п.8.8.2. части 8.8.",T16=$BJ$15),L16,0) -> 0 | BK16: =IF(AND(M16="пп.7 п.8.8.2. части 8.8.",T16=$BK$15),L16,0) -> 0 | BL16: =IF(AND(M16="пп.7 п.8.8.2. части 8.8.",T16=$BL$15),L16,0) -> 0 | BM16: =IF(AND(M16="пп.7 п.8.8.2. части 8.8.",T16=$BM$15),L16,0) -> 0 | BN16: =IF(AND(M16="пп.7 п.8.8.2. части 8.8.",T16=$BN$15),L16,0) -> 0 | BO16: =IF(AND(M16="пп.7 п.8.8.2. части 8.8.",T16=$BO$15),L16,0) -> 0 | BP16: =IF(AND(M16="пп.7 п.8.8.2. части 8.8.",T16=$BP$15),L16,0) -> 0 | BQ16: =IF(AND(M16="пп.7 п.8.8.2. части 8.8.",T16=$BQ$15),L16,0) -> 0 | BR16: =IF(AND(M16="пп.7 п.8.8.2. части 8.8.",T16=$BR$15),L16,0) -> 0 | BS16: =IF(AND(M16="пп.7 п.8.8.2. части 8.8.",T16=$BS$15),L16,0) -> 0 | BT16: =IF(AND(M16="пп.7 п.8.8.2. части 8.8.",T16=$BT$15),L16,0) -> 0 | BU16: =IF(AND(M16="пп.7 п.8.8.2. части 8.8.",T16=$BU$15),L16,0) -> 0 | BV16: =IF(AND(M16="пп.7 п.8.8.2. части 8.8.",T16=$BV$15),L16,0) -> 0 | BW16: =IF(AND(M16="пп.7 п.8.8.2. части 8.8.",T16=$BW$15),L16,0) -> 0 | CB16: =IF(AND(M16="пп.7 п.8.8.2. части 8.8.",T16=$CB$15),L16,0) -> 0
A17: 1 | B17: =IF(D17="ЕП",IF((AE17=0),1,0),0) -> 0 | D17: ЕП | F17: 41311 | G17: 41306 | H17: 3 | I17: ООО ИСА "СТО" | J17: Рекламные услуги | L17: 10000 | M17: =IF(D17="ЕП","пп.7 п.8.8.2. части 8.8.","-") -> пп.7 п.8.8.2. части 8.8. | T17: 202 | U17: =IF(D17="ЕП",1,0) -> 1 | V17: =IF(D17="ЕП",L17,0) -> 10000 | W17: =IF(D17="М",1,0) -> 0 | X17: =IF(D17="М",L17,0) -> 0 | Y17: =IF(D17="ЗЦ",1,0) -> 0 | Z17: =IF(D17="ЗЦ",L17,0) -> 0 | AA17: =IF(D17="К",1,0) -> 0 | AB17: =IF(D17="К",L17,0) -> 0 | AC17: =IF(D17="А",1,0) -> 0 | AD17: =IF(D17="А",L17,0) -> 0 | AE17: =SUM(AF17:DD17) -> 10000 | AF17: =IF(AND(M17="пп.7 п.8.8.2. части 8.8.",T17=$AF$15),L17,0) -> 0 | AG17: =IF(AND(M17="пп.7 п.8.8.2. части 8.8.",T17=$AG$15),L17,0) -> 0 | AH17: =IF(AND(M17="пп.7 п.8.8.2. части 8.8.",T17=$AH$15),L17,0) -> 0 | AI17: =IF(AND(M17="пп.7 п.8.8.2. части 8.8.",T17=$AI$15),L17,0) -> 0 | AJ17: =IF(AND(M17="пп.7 п.8.8.2. части 8.8.",T17=$AJ$15),L17,0) -> 0 | AK17: =IF(AND(M17="пп.7 п.8.8.2. части 8.8.",T17=$AK$15),L17,0) -> 0 | AL17: =IF(AND(M17="пп.7 п.8.8.2. части 8.8.",T17=$AL$15),L17,0) -> 0 | AM17: =IF(AND(M17="пп.7 п.8.8.2. части 8.8.",T17=$AM$15),L17,0) -> 0 | AN17: =IF(AND(M17="пп.7 п.8.8.2. части 8.8.",T17=$AN$15),L17,0) -> 0 | AO17: =IF(AND(M17="пп.7 п.8.8.2. части 8.8.",T17=$AO$15),L17,0) -> 0 | AP17: =IF(AND(M17="пп.7 п.8.8.2. части 8.8.",T17=$AP$15),L17,0) -> 0 | AQ17: =IF(AND(M17="пп.7 п.8.8.2. части 8.8.",T17=$AQ$15),L17,0) -> 0 | AR17: =IF(AND(M17="пп.7 п.8.8.2. части 8.8.",T17=$AR$15),L17,0) -> 0 | AS17: =IF(AND(M17="пп.7 п.8.8.2. части 8.8.",T17=$AS$15),L17,0) -> 0 | AT17: =IF(AND(M17="пп.7 п.8.8.2. части 8.8.",T17=$AT$15),L17,0) -> 0 | AU17: =IF(AND(M17="пп.7 п.8.8.2. части 8.8.",T17=$AU$15),L17,0) -> 0 | AV17: =IF(AND(M17="пп.7 п.8.8.2. части 8.8.",T17=$AV$15),L17,0) -> 0 | AW17: =IF(AND(M17="пп.7 п.8.8.2. части 8.8.",T17=$AW$15),L17,0) -> 0 | AX17: =IF(AND(M17="пп.7 п.8.8.2. части 8.8.",T17=$AX$15),L17,0) -> 0 | AY17: =IF(AND(M17="пп.7 п.8.8.2. части 8.8.",T17=$AY$15),L17,0) -> 0 | AZ17: =IF(AND(M17="пп.7 п.8.8.2. части 8.8.",T17=$AZ$15),L17,0) -> 0 | BA17: =IF(AND(M17="пп.7 п.8.8.2. части 8.8.",T17=$BA$15),L17,0) -> 0 | BB17: =IF(AND(M17="пп.7 п.8.8.2. части 8.8.",T17=$BB$15),L17,0) -> 0 | BC17: =IF(AND(M17="пп.7 п.8.8.2. части 8.8.",T17=$BC$15),L17,0) -> 0 | BD17: =IF(AND(M17="пп.7 п.8.8.2. части 8.8.",T17=$BD$15),L17,0) -> 0 | BE17: =IF(AND(M17="пп.7 п.8.8.2. части 8.8.",T17=$BE$15),L17,0) -> 0 | BF17: =IF(AND(M17="пп.7 п.8.8.2. части 8.8.",T17=$BF$15),L17,0) -> 0 | BG17: =IF(AND(M17="пп.7 п.8.8.2. части 8.8.",T17=$BG$15),L17,0) -> 0 | BH17: =IF(AND(M17="пп.7 п.8.8.2. части 8.8.",T17=$BH$15),L17,0) -> 0 | BI17: =IF(AND(M17="пп.7 п.8.8.2. части 8.8.",T17=$BI$15),L17,0) -> 0 | BJ17: =IF(AND(M17="пп.7 п.8.8.2. части 8.8.",T17=$BJ$15),L17,0) -> 0 | BK17: =IF(AND(M17="пп.7 п.8.8.2. части 8.8.",T17=$BK$15),L17,0) -> 0 | BL17: =IF(AND(M17="пп.7 п.8.8.2. части 8.8.",T17=$BL$15),L17,0) -> 0 | BM17: =IF(AND(M17="пп.7 п.8.8.2. части 8.8.",T17=$BM$15),L17,0) -> 0 | BN17: =IF(AND(M17="пп.7 п.8.8.2. части 8.8.",T17=$BN$15),L17,0) -> 10000 | BO17: =IF(AND(M17="пп.7 п.8.8.2. части 8.8.",T17=$BO$15),L17,0) -> 0 | BP17: =IF(AND(M17="пп.7 п.8.8.2. части 8.8.",T17=$BP$15),L17,0) -> 0 | BQ17: =IF(AND(M17="пп.7 п.8.8.2. части 8.8.",T17=$BQ$15),L17,0) -> 0 | BR17: =IF(AND(M17="пп.7 п.8.8.2. части 8.8.",T17=$BR$15),L17,0) -> 0 | BS17: =IF(AND(M17="пп.7 п.8.8.2. части 8.8.",T17=$BS$15),L17,0) -> 0 | BT17: =IF(AND(M17="пп.7 п.8.8.2. части 8.8.",T17=$BT$15),L17,0) -> 0 | BU17: =IF(AND(M17="пп.7 п.8.8.2. части 8.8.",T17=$BU$15),L17,0) -> 0 | BV17: =IF(AND(M17="пп.7 п.8.8.2. части 8.8.",T17=$BV$15),L17,0) -> 0 | BW17: =IF(AND(M17="пп.7 п.8.8.2. части 8.8.",T17=$BW$15),L17,0) -> 0 | CB17: =IF(AND(M17="пп.7 п.8.8.2. части 8.8.",T17=$CB$15),L17,0) -> 0
A18: 1 | B18: =IF(D18="ЕП",IF((AE18=0),1,0),0) -> 0 | D18: ЕП | F18: 41317 | G18: 41316 | H18: 9 | I18: ИП Стерехова | J18: Зап.части | L18: 9675 | M18: =IF(D18="ЕП","пп.7 п.8.8.2. части 8.8.","-") -> пп.7 п.8.8.2. части 8.8. | T18: 155 | U18: =IF(D18="ЕП",1,0) -> 1 | V18: =IF(D18="ЕП",L18,0) -> 9675 | W18: =IF(D18="М",1,0) -> 0 | X18: =IF(D18="М",L18,0) -> 0 | Y18: =IF(D18="ЗЦ",1,0) -> 0 | Z18: =IF(D18="ЗЦ",L18,0) -> 0 | AA18: =IF(D18="К",1,0) -> 0 | AB18: =IF(D18="К",L18,0) -> 0 | AC18: =IF(D18="А",1,0) -> 0 | AD18: =IF(D18="А",L18,0) -> 0 | AE18: =SUM(AF18:DD18) -> 9675 | AF18: =IF(AND(M18="пп.7 п.8.8.2. части 8.8.",T18=$AF$15),L18,0) -> 0 | AG18: =IF(AND(M18="пп.7 п.8.8.2. части 8.8.",T18=$AG$15),L18,0) -> 0 | AH18: =IF(AND(M18="пп.7 п.8.8.2. части 8.8.",T18=$AH$15),L18,0) -> 0 | AI18: =IF(AND(M18="пп.7 п.8.8.2. части 8.8.",T18=$AI$15),L18,0) -> 0 | AJ18: =IF(AND(M18="пп.7 п.8.8.2. части 8.8.",T18=$AJ$15),L18,0) -> 0 | AK18: =IF(AND(M18="пп.7 п.8.8.2. части 8.8.",T18=$AK$15),L18,0) -> 0 | AL18: =IF(AND(M18="пп.7 п.8.8.2. части 8.8.",T18=$AL$15),L18,0) -> 0 | AM18: =IF(AND(M18="пп.7 п.8.8.2. части 8.8.",T18=$AM$15),L18,0) -> 0 | AN18: =IF(AND(M18="пп.7 п.8.8.2. части 8.8.",T18=$AN$15),L18,0) -> 0 | AO18: =IF(AND(M18="пп.7 п.8.8.2. части 8.8.",T18=$AO$15),L18,0) -> 0 | AP18: =IF(AND(M18="пп.7 п.8.8.2. части 8.8.",T18=$AP$15),L18,0) -> 0 | AQ18: =IF(AND(M18="пп.7 п.8.8.2. части 8.8.",T18=$AQ$15),L18,0) -> 0 | AR18: =IF(AND(M18="пп.7 п.8.8.2. части 8.8.",T18=$AR$15),L18,0) -> 0 | AS18: =IF(AND(M18="пп.7 п.8.8.2. части 8.8.",T18=$AS$15),L18,0) -> 0 | AT18: =IF(AND(M18="пп.7 п.8.8.2. части 8.8.",T18=$AT$15),L18,0) -> 0 | AU18: =IF(AND(M18="пп.7 п.8.8.2. части 8.8.",T18=$AU$15),L18,0) -> 0 | AV18: =IF(AND(M18="пп.7 п.8.8.2. части 8.8.",T18=$AV$15),L18,0) -> 0 | AW18: =IF(AND(M18="пп.7 п.8.8.2. части 8.8.",T18=$AW$15),L18,0) -> 0 | AX18: =IF(AND(M18="пп.7 п.8.8.2. части 8.8.",T18=$AX$15),L18,0) -> 0 | AY18: =IF(AND(M18="пп.7 п.8.8.2. части 8.8.",T18=$AY$15),L18,0) -> 0 | AZ18: =IF(AND(M18="пп.7 п.8.8.2. части 8.8.",T18=$AZ$15),L18,0) -> 0 | BA18: =IF(AND(M18="пп.7 п.8.8.2. части 8.8.",T18=$BA$15),L18,0) -> 0 | BB18: =IF(AND(M18="пп.7 п.8.8.2. части 8.8.",T18=$BB$15),L18,0) -> 0 | BC18: =IF(AND(M18="пп.7 п.8.8.2. части 8.8.",T18=$BC$15),L18,0) -> 0 | BD18: =IF(AND(M18="пп.7 п.8.8.2. части 8.8.",T18=$BD$15),L18,0) -> 0 | BE18: =IF(AND(M18="пп.7 п.8.8.2. части 8.8.",T18=$BE$15),L18,0) -> 0 | BF18: =IF(AND(M18="пп.7 п.8.8.2. части 8.8.",T18=$BF$15),L18,0) -> 0 | BG18: =IF(AND(M18="пп.7 п.8.8.2. части 8.8.",T18=$BG$15),L18,0) -> 0 | BH18: =IF(AND(M18="пп.7 п.8.8.2. части 8.8.",T18=$BH$15),L18,0) -> 0 | BI18: =IF(AND(M18="пп.7 п.8.8.2. части 8.8.",T18=$BI$15),L18,0) -> 0 | BJ18: =IF(AND(M18="пп.7 п.8.8.2. части 8.8.",T18=$BJ$15),L18,0) -> 0 | BK18: =IF(AND(M18="пп.7 п.8.8.2. части 8.8.",T18=$BK$15),L18,0) -> 0 | BL18: =IF(AND(M18="пп.7 п.8.8.2. части 8.8.",T18=$BL$15),L18,0) -> 0 | BM18: =IF(AND(M18="пп.7 п.8.8.2. части 8.8.",T18=$BM$15),L18,0) -> 0 | BN18: =IF(AND(M18="пп.7 п.8.8.2. части 8.8.",T18=$BN$15),L18,0) -> 0 | BO18: =IF(AND(M18="пп.7 п.8.8.2. части 8.8.",T18=$BO$15),L18,0) -> 0 | BP18: =IF(AND(M18="пп.7 п.8.8.2. части 8.8.",T18=$BP$15),L18,0) -> 0 | BQ18: =IF(AND(M18="пп.7 п.8.8.2. части 8.8.",T18=$BQ$15),L18,0) -> 0 | BR18: =IF(AND(M18="пп.7 п.8.8.2. части 8.8.",T18=$BR$15),L18,0) -> 9675 | BS18: =IF(AND(M18="пп.7 п.8.8.2. части 8.8.",T18=$BS$15),L18,0) -> 0 | BT18: =IF(AND(M18="пп.7 п.8.8.2. части 8.8.",T18=$BT$15),L18,0) -> 0 | BU18: =IF(AND(M18="пп.7 п.8.8.2. части 8.8.",T18=$BU$15),L18,0) -> 0 | BV18: =IF(AND(M18="пп.7 п.8.8.2. части 8.8.",T18=$BV$15),L18,0) -> 0 | BW18: =IF(AND(M18="пп.7 п.8.8.2. части 8.8.",T18=$BW$15),L18,0) -> 0 | CB18: =IF(AND(M18="пп.7 п.8.8.2. части 8.8.",T18=$CB$15),L18,0) -> 0
U155: =IF(D155="ЕП",1,0) -> 0 | V155: =IF(D155="ЕП",L155,0) -> 0 | W155: =IF(D155="М",1,0) -> 0 | X155: =IF(D155="М",L155,0) -> 0 | Y155: =IF(D155="ЗЦ",1,0) -> 0 | Z155: =IF(D155="ЗЦ",L155,0) -> 0 | AA155: =IF(D155="К",1,0) -> 0 | AB155: =IF(D155="К",L155,0) -> 0 | AC155: =IF(D155="А",1,0) -> 0 | AD155: =IF(D155="А",L155,0) -> 0 | AE155: =SUM(AF155:DD155) -> 0 | AF155: =IF(AND(M155="пп.7 п.8.8.2. части 8.8.",T155=$AF$15),L155,0) -> 0 | AG155: =IF(AND(M155="пп.7 п.8.8.2. части 8.8.",T155=$AG$15),L155,0) -> 0 | AH155: =IF(AND(M155="пп.7 п.8.8.2. части 8.8.",T155=$AH$15),L155,0) -> 0 | AI155: =IF(AND(M155="пп.7 п.8.8.2. части 8.8.",T155=$AI$15),L155,0) -> 0 | AJ155: =IF(AND(M155="пп.7 п.8.8.2. части 8.8.",T155=$AJ$15),L155,0) -> 0 | AK155: =IF(AND(M155="пп.7 п.8.8.2. части 8.8.",T155=$AK$15),L155,0) -> 0 | AL155: =IF(AND(M155="пп.7 п.8.8.2. части 8.8.",T155=$AL$15),L155,0) -> 0 | AM155: =IF(AND(M155="пп.7 п.8.8.2. части 8.8.",T155=$AM$15),L155,0) -> 0 | AN155: =IF(AND(M155="пп.7 п.8.8.2. части 8.8.",T155=$AN$15),L155,0) -> 0 | AO155: =IF(AND(M155="пп.7 п.8.8.2. части 8.8.",T155=$AO$15),L155,0) -> 0 | AP155: =IF(AND(M155="пп.7 п.8.8.2. части 8.8.",T155=$AP$15),L155,0) -> 0 | AQ155: =IF(AND(M155="пп.7 п.8.8.2. части 8.8.",T155=$AQ$15),L155,0) -> 0 | AR155: =IF(AND(M155="пп.7 п.8.8.2. части 8.8.",T155=$AR$15),L155,0) -> 0 | AS155: =IF(AND(M155="пп.7 п.8.8.2. части 8.8.",T155=$AS$15),L155,0) -> 0 | AT155: =IF(AND(M155="пп.7 п.8.8.2. части 8.8.",T155=$AT$15),L155,0) -> 0 | AU155: =IF(AND(M155="пп.7 п.8.8.2. части 8.8.",T155=$AU$15),L155,0) -> 0 | AV155: =IF(AND(M155="пп.7 п.8.8.2. части 8.8.",T155=$AV$15),L155,0) -> 0 | AW155: =IF(AND(M155="пп.7 п.8.8.2. части 8.8.",T155=$AW$15),L155,0) -> 0 | AX155: =IF(AND(M155="пп.7 п.8.8.2. части 8.8.",T155=$AX$15),L155,0) -> 0 | AY155: =IF(AND(M155="пп.7 п.8.8.2. части 8.8.",T155=$AY$15),L155,0) -> 0 | AZ155: =IF(AND(M155="пп.7 п.8.8.2. части 8.8.",T155=$AZ$15),L155,0) -> 0 | BA155: =IF(AND(M155="пп.7 п.8.8.2. части 8.8.",T155=$BA$15),L155,0) -> 0 | BB155: =IF(AND(M155="пп.7 п.8.8.2. части 8.8.",T155=$BB$15),L155,0) -> 0 | BC155: =IF(AND(M155="пп.7 п.8.8.2. части 8.8.",T155=$BC$15),L155,0) -> 0 | BD155: =IF(AND(M155="пп.7 п.8.8.2. части 8.8.",T155=$BD$15),L155,0) -> 0 | BE155: =IF(AND(M155="пп.7 п.8.8.2. части 8.8.",T155=$BE$15),L155,0) -> 0 | BF155: =IF(AND(M155="пп.7 п.8.8.2. части 8.8.",T155=$BF$15),L155,0) -> 0 | BG155: =IF(AND(M155="пп.7 п.8.8.2. части 8.8.",T155=$BG$15),L155,0) -> 0 | BH155: =IF(AND(M155="пп.7 п.8.8.2. части 8.8.",T155=$BH$15),L155,0) -> 0 | BI155: =IF(AND(M155="пп.7 п.8.8.2. части 8.8.",T155=$BI$15),L155,0) -> 0 | BJ155: =IF(AND(M155="пп.7 п.8.8.2. части 8.8.",T155=$BJ$15),L155,0) -> 0 | BK155: =IF(AND(M155="пп.7 п.8.8.2. части 8.8.",T155=$BK$15),L155,0) -> 0 | BL155: =IF(AND(M155="пп.7 п.8.8.2. части 8.8.",T155=$BL$15),L155,0) -> 0 | BM155: =IF(AND(M155="пп.7 п.8.8.2. части 8.8.",T155=$BM$15),L155,0) -> 0 | BN155: =IF(AND(M155="пп.7 п.8.8.2. части 8.8.",T155=$BN$15),L155,0) -> 0 | BO155: =IF(AND(M155="пп.7 п.8.8.2. части 8.8.",T155=$BO$15),L155,0) -> 0 | BP155: =IF(AND(M155="пп.7 п.8.8.2. части 8.8.",T155=$BP$15),L155,0) -> 0 | BQ155: =IF(AND(M155="пп.7 п.8.8.2. части 8.8.",T155=$BQ$15),L155,0) -> 0 | BR155: =IF(AND(M155="пп.7 п.8.8.2. части 8.8.",T155=$BR$15),L155,0) -> 0 | BS155: =IF(AND(M155="пп.7 п.8.8.2. части 8.8.",T155=$BS$15),L155,0) -> 0 | BT155: =IF(AND(M155="пп.7 п.8.8.2. части 8.8.",T155=$BT$15),L155,0) -> 0 | BU155: =IF(AND(M155="пп.7 п.8.8.2. части 8.8.",T155=$BU$15),L155,0) -> 0 | BV155: =IF(AND(M155="пп.7 п.8.8.2. части 8.8.",T155=$BV$15),L155,0) -> 0 | BW155: =IF(AND(M155="пп.7 п.8.8.2. части 8.8.",T155=$BW$15),L155,0) -> 0 | CB155: =IF(AND(M155="пп.7 п.8.8.2. части 8.8.",T155=$CB$15),L155,0) -> 0
U156: =IF(D156="ЕП",1,0) -> 0 | V156: =IF(D156="ЕП",L156,0) -> 0 | W156: =IF(D156="М",1,0) -> 0 | X156: =IF(D156="М",L156,0) -> 0 | Y156: =IF(D156="ЗЦ",1,0) -> 0 | Z156: =IF(D156="ЗЦ",L156,0) -> 0 | AA156: =IF(D156="К",1,0) -> 0 | AB156: =IF(D156="К",L156,0) -> 0 | AC156: =IF(D156="А",1,0) -> 0 | AD156: =IF(D156="А",L156,0) -> 0 | AE156: =SUM(AF156:DD156) -> 0 | AF156: =IF(AND(M156="пп.7 п.8.8.2. части 8.8.",T156=$AF$15),L156,0) -> 0 | AG156: =IF(AND(M156="пп.7 п.8.8.2. части 8.8.",T156=$AG$15),L156,0) -> 0 | AH156: =IF(AND(M156="пп.7 п.8.8.2. части 8.8.",T156=$AH$15),L156,0) -> 0 | AI156: =IF(AND(M156="пп.7 п.8.8.2. части 8.8.",T156=$AI$15),L156,0) -> 0 | AJ156: =IF(AND(M156="пп.7 п.8.8.2. части 8.8.",T156=$AJ$15),L156,0) -> 0 | AK156: =IF(AND(M156="пп.7 п.8.8.2. части 8.8.",T156=$AK$15),L156,0) -> 0 | AL156: =IF(AND(M156="пп.7 п.8.8.2. части 8.8.",T156=$AL$15),L156,0) -> 0 | AM156: =IF(AND(M156="пп.7 п.8.8.2. части 8.8.",T156=$AM$15),L156,0) -> 0 | AN156: =IF(AND(M156="пп.7 п.8.8.2. части 8.8.",T156=$AN$15),L156,0) -> 0 | AO156: =IF(AND(M156="пп.7 п.8.8.2. части 8.8.",T156=$AO$15),L156,0) -> 0 | AP156: =IF(AND(M156="пп.7 п.8.8.2. части 8.8.",T156=$AP$15),L156,0) -> 0 | AQ156: =IF(AND(M156="пп.7 п.8.8.2. части 8.8.",T156=$AQ$15),L156,0) -> 0 | AR156: =IF(AND(M156="пп.7 п.8.8.2. части 8.8.",T156=$AR$15),L156,0) -> 0 | AS156: =IF(AND(M156="пп.7 п.8.8.2. части 8.8.",T156=$AS$15),L156,0) -> 0 | AT156: =IF(AND(M156="пп.7 п.8.8.2. части 8.8.",T156=$AT$15),L156,0) -> 0 | AU156: =IF(AND(M156="пп.7 п.8.8.2. части 8.8.",T156=$AU$15),L156,0) -> 0 | AV156: =IF(AND(M156="пп.7 п.8.8.2. части 8.8.",T156=$AV$15),L156,0) -> 0 | AW156: =IF(AND(M156="пп.7 п.8.8.2. части 8.8.",T156=$AW$15),L156,0) -> 0 | AX156: =IF(AND(M156="пп.7 п.8.8.2. части 8.8.",T156=$AX$15),L156,0) -> 0 | AY156: =IF(AND(M156="пп.7 п.8.8.2. части 8.8.",T156=$AY$15),L156,0) -> 0 | AZ156: =IF(AND(M156="пп.7 п.8.8.2. части 8.8.",T156=$AZ$15),L156,0) -> 0 | BA156: =IF(AND(M156="пп.7 п.8.8.2. части 8.8.",T156=$BA$15),L156,0) -> 0 | BB156: =IF(AND(M156="пп.7 п.8.8.2. части 8.8.",T156=$BB$15),L156,0) -> 0 | BC156: =IF(AND(M156="пп.7 п.8.8.2. части 8.8.",T156=$BC$15),L156,0) -> 0 | BD156: =IF(AND(M156="пп.7 п.8.8.2. части 8.8.",T156=$BD$15),L156,0) -> 0 | BE156: =IF(AND(M156="пп.7 п.8.8.2. части 8.8.",T156=$BE$15),L156,0) -> 0 | BF156: =IF(AND(M156="пп.7 п.8.8.2. части 8.8.",T156=$BF$15),L156,0) -> 0 | BG156: =IF(AND(M156="пп.7 п.8.8.2. части 8.8.",T156=$BG$15),L156,0) -> 0 | BH156: =IF(AND(M156="пп.7 п.8.8.2. части 8.8.",T156=$BH$15),L156,0) -> 0 | BI156: =IF(AND(M156="пп.7 п.8.8.2. части 8.8.",T156=$BI$15),L156,0) -> 0 | BJ156: =IF(AND(M156="пп.7 п.8.8.2. части 8.8.",T156=$BJ$15),L156,0) -> 0 | BK156: =IF(AND(M156="пп.7 п.8.8.2. части 8.8.",T156=$BK$15),L156,0) -> 0 | BL156: =IF(AND(M156="пп.7 п.8.8.2. части 8.8.",T156=$BL$15),L156,0) -> 0 | BM156: =IF(AND(M156="пп.7 п.8.8.2. части 8.8.",T156=$BM$15),L156,0) -> 0 | BN156: =IF(AND(M156="пп.7 п.8.8.2. части 8.8.",T156=$BN$15),L156,0) -> 0 | BO156: =IF(AND(M156="пп.7 п.8.8.2. части 8.8.",T156=$BO$15),L156,0) -> 0 | BP156: =IF(AND(M156="пп.7 п.8.8.2. части 8.8.",T156=$BP$15),L156,0) -> 0 | BQ156: =IF(AND(M156="пп.7 п.8.8.2. части 8.8.",T156=$BQ$15),L156,0) -> 0 | BR156: =IF(AND(M156="пп.7 п.8.8.2. части 8.8.",T156=$BR$15),L156,0) -> 0 | BS156: =IF(AND(M156="пп.7 п.8.8.2. части 8.8.",T156=$BS$15),L156,0) -> 0 | BT156: =IF(AND(M156="пп.7 п.8.8.2. части 8.8.",T156=$BT$15),L156,0) -> 0 | BU156: =IF(AND(M156="пп.7 п.8.8.2. части 8.8.",T156=$BU$15),L156,0) -> 0 | BV156: =IF(AND(M156="пп.7 п.8.8.2. части 8.8.",T156=$BV$15),L156,0) -> 0 | BW156: =IF(AND(M156="пп.7 п.8.8.2. части 8.8.",T156=$BW$15),L156,0) -> 0 | CB156: =IF(AND(M156="пп.7 п.8.8.2. части 8.8.",T156=$CB$15),L156,0) -> 0
U157: =IF(D157="ЕП",1,0) -> 0 | V157: =IF(D157="ЕП",L157,0) -> 0 | W157: =IF(D157="М",1,0) -> 0 | X157: =IF(D157="М",L157,0) -> 0 | Y157: =IF(D157="ЗЦ",1,0) -> 0 | Z157: =IF(D157="ЗЦ",L157,0) -> 0 | AA157: =IF(D157="К",1,0) -> 0 | AB157: =IF(D157="К",L157,0) -> 0 | AC157: =IF(D157="А",1,0) -> 0 | AD157: =IF(D157="А",L157,0) -> 0 | AE157: =SUM(AF157:DD157) -> 0 | AF157: =IF(AND(M157="пп.7 п.8.8.2. части 8.8.",T157=$AF$15),L157,0) -> 0 | AG157: =IF(AND(M157="пп.7 п.8.8.2. части 8.8.",T157=$AG$15),L157,0) -> 0 | AH157: =IF(AND(M157="пп.7 п.8.8.2. части 8.8.",T157=$AH$15),L157,0) -> 0 | AI157: =IF(AND(M157="пп.7 п.8.8.2. части 8.8.",T157=$AI$15),L157,0) -> 0 | AJ157: =IF(AND(M157="пп.7 п.8.8.2. части 8.8.",T157=$AJ$15),L157,0) -> 0 | AK157: =IF(AND(M157="пп.7 п.8.8.2. части 8.8.",T157=$AK$15),L157,0) -> 0 | AL157: =IF(AND(M157="пп.7 п.8.8.2. части 8.8.",T157=$AL$15),L157,0) -> 0 | AM157: =IF(AND(M157="пп.7 п.8.8.2. части 8.8.",T157=$AM$15),L157,0) -> 0 | AN157: =IF(AND(M157="пп.7 п.8.8.2. части 8.8.",T157=$AN$15),L157,0) -> 0 | AO157: =IF(AND(M157="пп.7 п.8.8.2. части 8.8.",T157=$AO$15),L157,0) -> 0 | AP157: =IF(AND(M157="пп.7 п.8.8.2. части 8.8.",T157=$AP$15),L157,0) -> 0 | AQ157: =IF(AND(M157="пп.7 п.8.8.2. части 8.8.",T157=$AQ$15),L157,0) -> 0 | AR157: =IF(AND(M157="пп.7 п.8.8.2. части 8.8.",T157=$AR$15),L157,0) -> 0 | AS157: =IF(AND(M157="пп.7 п.8.8.2. части 8.8.",T157=$AS$15),L157,0) -> 0 | AT157: =IF(AND(M157="пп.7 п.8.8.2. части 8.8.",T157=$AT$15),L157,0) -> 0 | AU157: =IF(AND(M157="пп.7 п.8.8.2. части 8.8.",T157=$AU$15),L157,0) -> 0 | AV157: =IF(AND(M157="пп.7 п.8.8.2. части 8.8.",T157=$AV$15),L157,0) -> 0 | AW157: =IF(AND(M157="пп.7 п.8.8.2. части 8.8.",T157=$AW$15),L157,0) -> 0 | AX157: =IF(AND(M157="пп.7 п.8.8.2. части 8.8.",T157=$AX$15),L157,0) -> 0 | AY157: =IF(AND(M157="пп.7 п.8.8.2. части 8.8.",T157=$AY$15),L157,0) -> 0 | AZ157: =IF(AND(M157="пп.7 п.8.8.2. части 8.8.",T157=$AZ$15),L157,0) -> 0 | BA157: =IF(AND(M157="пп.7 п.8.8.2. части 8.8.",T157=$BA$15),L157,0) -> 0 | BB157: =IF(AND(M157="пп.7 п.8.8.2. части 8.8.",T157=$BB$15),L157,0) -> 0 | BC157: =IF(AND(M157="пп.7 п.8.8.2. части 8.8.",T157=$BC$15),L157,0) -> 0 | BD157: =IF(AND(M157="пп.7 п.8.8.2. части 8.8.",T157=$BD$15),L157,0) -> 0 | BE157: =IF(AND(M157="пп.7 п.8.8.2. части 8.8.",T157=$BE$15),L157,0) -> 0 | BF157: =IF(AND(M157="пп.7 п.8.8.2. части 8.8.",T157=$BF$15),L157,0) -> 0 | BG157: =IF(AND(M157="пп.7 п.8.8.2. части 8.8.",T157=$BG$15),L157,0) -> 0 | BH157: =IF(AND(M157="пп.7 п.8.8.2. части 8.8.",T157=$BH$15),L157,0) -> 0 | BI157: =IF(AND(M157="пп.7 п.8.8.2. части 8.8.",T157=$BI$15),L157,0) -> 0 | BJ157: =IF(AND(M157="пп.7 п.8.8.2. части 8.8.",T157=$BJ$15),L157,0) -> 0 | BK157: =IF(AND(M157="пп.7 п.8.8.2. части 8.8.",T157=$BK$15),L157,0) -> 0 | BL157: =IF(AND(M157="пп.7 п.8.8.2. части 8.8.",T157=$BL$15),L157,0) -> 0 | BM157: =IF(AND(M157="пп.7 п.8.8.2. части 8.8.",T157=$BM$15),L157,0) -> 0 | BN157: =IF(AND(M157="пп.7 п.8.8.2. части 8.8.",T157=$BN$15),L157,0) -> 0 | BO157: =IF(AND(M157="пп.7 п.8.8.2. части 8.8.",T157=$BO$15),L157,0) -> 0 | BP157: =IF(AND(M157="пп.7 п.8.8.2. части 8.8.",T157=$BP$15),L157,0) -> 0 | BQ157: =IF(AND(M157="пп.7 п.8.8.2. части 8.8.",T157=$BQ$15),L157,0) -> 0 | BR157: =IF(AND(M157="пп.7 п.8.8.2. части 8.8.",T157=$BR$15),L157,0) -> 0 | BS157: =IF(AND(M157="пп.7 п.8.8.2. части 8.8.",T157=$BS$15),L157,0) -> 0 | BT157: =IF(AND(M157="пп.7 п.8.8.2. части 8.8.",T157=$BT$15),L157,0) -> 0 | BU157: =IF(AND(M157="пп.7 п.8.8.2. части 8.8.",T157=$BU$15),L157,0) -> 0 | BV157: =IF(AND(M157="пп.7 п.8.8.2. части 8.8.",T157=$BV$15),L157,0) -> 0 | BW157: =IF(AND(M157="пп.7 п.8.8.2. части 8.8.",T157=$BW$15),L157,0) -> 0 | CB157: =IF(AND(M157="пп.7 п.8.8.2. части 8.8.",T157=$CB$15),L157,0) -> 0
U158: =IF(D158="ЕП",1,0) -> 0 | V158: =IF(D158="ЕП",L158,0) -> 0 | W158: =IF(D158="М",1,0) -> 0 | X158: =IF(D158="М",L158,0) -> 0 | Y158: =IF(D158="ЗЦ",1,0) -> 0 | Z158: =IF(D158="ЗЦ",L158,0) -> 0 | AA158: =IF(D158="К",1,0) -> 0 | AB158: =IF(D158="К",L158,0) -> 0 | AC158: =IF(D158="А",1,0) -> 0 | AD158: =IF(D158="А",L158,0) -> 0 | AE158: =SUM(AF158:DD158) -> 0 | AF158: =IF(AND(M158="пп.7 п.8.8.2. части 8.8.",T158=$AF$15),L158,0) -> 0 | AG158: =IF(AND(M158="пп.7 п.8.8.2. части 8.8.",T158=$AG$15),L158,0) -> 0 | AH158: =IF(AND(M158="пп.7 п.8.8.2. части 8.8.",T158=$AH$15),L158,0) -> 0 | AI158: =IF(AND(M158="пп.7 п.8.8.2. части 8.8.",T158=$AI$15),L158,0) -> 0 | AJ158: =IF(AND(M158="пп.7 п.8.8.2. части 8.8.",T158=$AJ$15),L158,0) -> 0 | AK158: =IF(AND(M158="пп.7 п.8.8.2. части 8.8.",T158=$AK$15),L158,0) -> 0 | AL158: =IF(AND(M158="пп.7 п.8.8.2. части 8.8.",T158=$AL$15),L158,0) -> 0 | AM158: =IF(AND(M158="пп.7 п.8.8.2. части 8.8.",T158=$AM$15),L158,0) -> 0 | AN158: =IF(AND(M158="пп.7 п.8.8.2. части 8.8.",T158=$AN$15),L158,0) -> 0 | AO158: =IF(AND(M158="пп.7 п.8.8.2. части 8.8.",T158=$AO$15),L158,0) -> 0 | AP158: =IF(AND(M158="пп.7 п.8.8.2. части 8.8.",T158=$AP$15),L158,0) -> 0 | AQ158: =IF(AND(M158="пп.7 п.8.8.2. части 8.8.",T158=$AQ$15),L158,0) -> 0 | AR158: =IF(AND(M158="пп.7 п.8.8.2. части 8.8.",T158=$AR$15),L158,0) -> 0 | AS158: =IF(AND(M158="пп.7 п.8.8.2. части 8.8.",T158=$AS$15),L158,0) -> 0 | AT158: =IF(AND(M158="пп.7 п.8.8.2. части 8.8.",T158=$AT$15),L158,0) -> 0 | AU158: =IF(AND(M158="пп.7 п.8.8.2. части 8.8.",T158=$AU$15),L158,0) -> 0 | AV158: =IF(AND(M158="пп.7 п.8.8.2. части 8.8.",T158=$AV$15),L158,0) -> 0 | AW158: =IF(AND(M158="пп.7 п.8.8.2. части 8.8.",T158=$AW$15),L158,0) -> 0 | AX158: =IF(AND(M158="пп.7 п.8.8.2. части 8.8.",T158=$AX$15),L158,0) -> 0 | AY158: =IF(AND(M158="пп.7 п.8.8.2. части 8.8.",T158=$AY$15),L158,0) -> 0 | AZ158: =IF(AND(M158="пп.7 п.8.8.2. части 8.8.",T158=$AZ$15),L158,0) -> 0 | BA158: =IF(AND(M158="пп.7 п.8.8.2. части 8.8.",T158=$BA$15),L158,0) -> 0 | BB158: =IF(AND(M158="пп.7 п.8.8.2. части 8.8.",T158=$BB$15),L158,0) -> 0 | BC158: =IF(AND(M158="пп.7 п.8.8.2. части 8.8.",T158=$BC$15),L158,0) -> 0 | BD158: =IF(AND(M158="пп.7 п.8.8.2. части 8.8.",T158=$BD$15),L158,0) -> 0 | BE158: =IF(AND(M158="пп.7 п.8.8.2. части 8.8.",T158=$BE$15),L158,0) -> 0 | BF158: =IF(AND(M158="пп.7 п.8.8.2. части 8.8.",T158=$BF$15),L158,0) -> 0 | BG158: =IF(AND(M158="пп.7 п.8.8.2. части 8.8.",T158=$BG$15),L158,0) -> 0 | BH158: =IF(AND(M158="пп.7 п.8.8.2. части 8.8.",T158=$BH$15),L158,0) -> 0 | BI158: =IF(AND(M158="пп.7 п.8.8.2. части 8.8.",T158=$BI$15),L158,0) -> 0 | BJ158: =IF(AND(M158="пп.7 п.8.8.2. части 8.8.",T158=$BJ$15),L158,0) -> 0 | BK158: =IF(AND(M158="пп.7 п.8.8.2. части 8.8.",T158=$BK$15),L158,0) -> 0 | BL158: =IF(AND(M158="пп.7 п.8.8.2. части 8.8.",T158=$BL$15),L158,0) -> 0 | BM158: =IF(AND(M158="пп.7 п.8.8.2. части 8.8.",T158=$BM$15),L158,0) -> 0 | BN158: =IF(AND(M158="пп.7 п.8.8.2. части 8.8.",T158=$BN$15),L158,0) -> 0 | BO158: =IF(AND(M158="пп.7 п.8.8.2. части 8.8.",T158=$BO$15),L158,0) -> 0 | BP158: =IF(AND(M158="пп.7 п.8.8.2. части 8.8.",T158=$BP$15),L158,0) -> 0 | BQ158: =IF(AND(M158="пп.7 п.8.8.2. части 8.8.",T158=$BQ$15),L158,0) -> 0 | BR158: =IF(AND(M158="пп.7 п.8.8.2. части 8.8.",T158=$BR$15),L158,0) -> 0 | BS158: =IF(AND(M158="пп.7 п.8.8.2. части 8.8.",T158=$BS$15),L158,0) -> 0 | BT158: =IF(AND(M158="пп.7 п.8.8.2. части 8.8.",T158=$BT$15),L158,0) -> 0 | BU158: =IF(AND(M158="пп.7 п.8.8.2. части 8.8.",T158=$BU$15),L158,0) -> 0 | BV158: =IF(AND(M158="пп.7 п.8.8.2. части 8.8.",T158=$BV$15),L158,0) -> 0 | BW158: =IF(AND(M158="пп.7 п.8.8.2. части 8.8.",T158=$BW$15),L158,0) -> 0 | CB158: =IF(AND(M158="пп.7 п.8.8.2. части 8.8.",T158=$CB$15),L158,0) -> 0
U159: =IF(D159="ЕП",1,0) -> 0 | V159: =IF(D159="ЕП",L159,0) -> 0 | W159: =IF(D159="М",1,0) -> 0 | X159: =IF(D159="М",L159,0) -> 0 | Y159: =IF(D159="ЗЦ",1,0) -> 0 | Z159: =IF(D159="ЗЦ",L159,0) -> 0 | AA159: =IF(D159="К",1,0) -> 0 | AB159: =IF(D159="К",L159,0) -> 0 | AC159: =IF(D159="А",1,0) -> 0 | AD159: =IF(D159="А",L159,0) -> 0 | AE159: =SUM(AF159:DD159) -> 0 | AF159: =IF(AND(M159="пп.7 п.8.8.2. части 8.8.",T159=$AF$15),L159,0) -> 0 | AG159: =IF(AND(M159="пп.7 п.8.8.2. части 8.8.",T159=$AG$15),L159,0) -> 0 | AH159: =IF(AND(M159="пп.7 п.8.8.2. части 8.8.",T159=$AH$15),L159,0) -> 0 | AI159: =IF(AND(M159="пп.7 п.8.8.2. части 8.8.",T159=$AI$15),L159,0) -> 0 | AJ159: =IF(AND(M159="пп.7 п.8.8.2. части 8.8.",T159=$AJ$15),L159,0) -> 0 | AK159: =IF(AND(M159="пп.7 п.8.8.2. части 8.8.",T159=$AK$15),L159,0) -> 0 | AL159: =IF(AND(M159="пп.7 п.8.8.2. части 8.8.",T159=$AL$15),L159,0) -> 0 | AM159: =IF(AND(M159="пп.7 п.8.8.2. части 8.8.",T159=$AM$15),L159,0) -> 0 | AN159: =IF(AND(M159="пп.7 п.8.8.2. части 8.8.",T159=$AN$15),L159,0) -> 0 | AO159: =IF(AND(M159="пп.7 п.8.8.2. части 8.8.",T159=$AO$15),L159,0) -> 0 | AP159: =IF(AND(M159="пп.7 п.8.8.2. части 8.8.",T159=$AP$15),L159,0) -> 0 | AQ159: =IF(AND(M159="пп.7 п.8.8.2. части 8.8.",T159=$AQ$15),L159,0) -> 0 | AR159: =IF(AND(M159="пп.7 п.8.8.2. части 8.8.",T159=$AR$15),L159,0) -> 0 | AS159: =IF(AND(M159="пп.7 п.8.8.2. части 8.8.",T159=$AS$15),L159,0) -> 0 | AT159: =IF(AND(M159="пп.7 п.8.8.2. части 8.8.",T159=$AT$15),L159,0) -> 0 | AU159: =IF(AND(M159="пп.7 п.8.8.2. части 8.8.",T159=$AU$15),L159,0) -> 0 | AV159: =IF(AND(M159="пп.7 п.8.8.2. части 8.8.",T159=$AV$15),L159,0) -> 0 | AW159: =IF(AND(M159="пп.7 п.8.8.2. части 8.8.",T159=$AW$15),L159,0) -> 0 | AX159: =IF(AND(M159="пп.7 п.8.8.2. части 8.8.",T159=$AX$15),L159,0) -> 0 | AY159: =IF(AND(M159="пп.7 п.8.8.2. части 8.8.",T159=$AY$15),L159,0) -> 0 | AZ159: =IF(AND(M159="пп.7 п.8.8.2. части 8.8.",T159=$AZ$15),L159,0) -> 0 | BA159: =IF(AND(M159="пп.7 п.8.8.2. части 8.8.",T159=$BA$15),L159,0) -> 0 | BB159: =IF(AND(M159="пп.7 п.8.8.2. части 8.8.",T159=$BB$15),L159,0) -> 0 | BC159: =IF(AND(M159="пп.7 п.8.8.2. части 8.8.",T159=$BC$15),L159,0) -> 0 | BD159: =IF(AND(M159="пп.7 п.8.8.2. части 8.8.",T159=$BD$15),L159,0) -> 0 | BE159: =IF(AND(M159="пп.7 п.8.8.2. части 8.8.",T159=$BE$15),L159,0) -> 0 | BF159: =IF(AND(M159="пп.7 п.8.8.2. части 8.8.",T159=$BF$15),L159,0) -> 0 | BG159: =IF(AND(M159="пп.7 п.8.8.2. части 8.8.",T159=$BG$15),L159,0) -> 0 | BH159: =IF(AND(M159="пп.7 п.8.8.2. части 8.8.",T159=$BH$15),L159,0) -> 0 | BI159: =IF(AND(M159="пп.7 п.8.8.2. части 8.8.",T159=$BI$15),L159,0) -> 0 | BJ159: =IF(AND(M159="пп.7 п.8.8.2. части 8.8.",T159=$BJ$15),L159,0) -> 0 | BK159: =IF(AND(M159="пп.7 п.8.8.2. части 8.8.",T159=$BK$15),L159,0) -> 0 | BL159: =IF(AND(M159="пп.7 п.8.8.2. части 8.8.",T159=$BL$15),L159,0) -> 0 | BM159: =IF(AND(M159="пп.7 п.8.8.2. части 8.8.",T159=$BM$15),L159,0) -> 0 | BN159: =IF(AND(M159="пп.7 п.8.8.2. части 8.8.",T159=$BN$15),L159,0) -> 0 | BO159: =IF(AND(M159="пп.7 п.8.8.2. части 8.8.",T159=$BO$15),L159,0) -> 0 | BP159: =IF(AND(M159="пп.7 п.8.8.2. части 8.8.",T159=$BP$15),L159,0) -> 0 | BQ159: =IF(AND(M159="пп.7 п.8.8.2. части 8.8.",T159=$BQ$15),L159,0) -> 0 | BR159: =IF(AND(M159="пп.7 п.8.8.2. части 8.8.",T159=$BR$15),L159,0) -> 0 | BS159: =IF(AND(M159="пп.7 п.8.8.2. части 8.8.",T159=$BS$15),L159,0) -> 0 | BT159: =IF(AND(M159="пп.7 п.8.8.2. части 8.8.",T159=$BT$15),L159,0) -> 0 | BU159: =IF(AND(M159="пп.7 п.8.8.2. части 8.8.",T159=$BU$15),L159,0) -> 0 | BV159: =IF(AND(M159="пп.7 п.8.8.2. части 8.8.",T159=$BV$15),L159,0) -> 0 | BW159: =IF(AND(M159="пп.7 п.8.8.2. части 8.8.",T159=$BW$15),L159,0) -> 0 | CB159: =IF(AND(M159="пп.7 п.8.8.2. части 8.8.",T159=$CB$15),L159,0) -> 0
U160: =IF(D160="ЕП",1,0) -> 0 | V160: =IF(D160="ЕП",L160,0) -> 0 | W160: =IF(D160="М",1,0) -> 0 | X160: =IF(D160="М",L160,0) -> 0 | Y160: =IF(D160="ЗЦ",1,0) -> 0 | Z160: =IF(D160="ЗЦ",L160,0) -> 0 | AA160: =IF(D160="К",1,0) -> 0 | AB160: =IF(D160="К",L160,0) -> 0 | AC160: =IF(D160="А",1,0) -> 0 | AD160: =IF(D160="А",L160,0) -> 0 | AE160: =SUM(AF160:DD160) -> 0 | AF160: =IF(AND(M160="пп.7 п.8.8.2. части 8.8.",T160=$AF$15),L160,0) -> 0 | AG160: =IF(AND(M160="пп.7 п.8.8.2. части 8.8.",T160=$AG$15),L160,0) -> 0 | AH160: =IF(AND(M160="пп.7 п.8.8.2. части 8.8.",T160=$AH$15),L160,0) -> 0 | AI160: =IF(AND(M160="пп.7 п.8.8.2. части 8.8.",T160=$AI$15),L160,0) -> 0 | AJ160: =IF(AND(M160="пп.7 п.8.8.2. части 8.8.",T160=$AJ$15),L160,0) -> 0 | AK160: =IF(AND(M160="пп.7 п.8.8.2. части 8.8.",T160=$AK$15),L160,0) -> 0 | AL160: =IF(AND(M160="пп.7 п.8.8.2. части 8.8.",T160=$AL$15),L160,0) -> 0 | AM160: =IF(AND(M160="пп.7 п.8.8.2. части 8.8.",T160=$AM$15),L160,0) -> 0 | AN160: =IF(AND(M160="пп.7 п.8.8.2. части 8.8.",T160=$AN$15),L160,0) -> 0 | AO160: =IF(AND(M160="пп.7 п.8.8.2. части 8.8.",T160=$AO$15),L160,0) -> 0 | AP160: =IF(AND(M160="пп.7 п.8.8.2. части 8.8.",T160=$AP$15),L160,0) -> 0 | AQ160: =IF(AND(M160="пп.7 п.8.8.2. части 8.8.",T160=$AQ$15),L160,0) -> 0 | AR160: =IF(AND(M160="пп.7 п.8.8.2. части 8.8.",T160=$AR$15),L160,0) -> 0 | AS160: =IF(AND(M160="пп.7 п.8.8.2. части 8.8.",T160=$AS$15),L160,0) -> 0 | AT160: =IF(AND(M160="пп.7 п.8.8.2. части 8.8.",T160=$AT$15),L160,0) -> 0 | AU160: =IF(AND(M160="пп.7 п.8.8.2. части 8.8.",T160=$AU$15),L160,0) -> 0 | AV160: =IF(AND(M160="пп.7 п.8.8.2. части 8.8.",T160=$AV$15),L160,0) -> 0 | AW160: =IF(AND(M160="пп.7 п.8.8.2. части 8.8.",T160=$AW$15),L160,0) -> 0 | AX160: =IF(AND(M160="пп.7 п.8.8.2. части 8.8.",T160=$AX$15),L160,0) -> 0 | AY160: =IF(AND(M160="пп.7 п.8.8.2. части 8.8.",T160=$AY$15),L160,0) -> 0 | AZ160: =IF(AND(M160="пп.7 п.8.8.2. части 8.8.",T160=$AZ$15),L160,0) -> 0 | BA160: =IF(AND(M160="пп.7 п.8.8.2. части 8.8.",T160=$BA$15),L160,0) -> 0 | BB160: =IF(AND(M160="пп.7 п.8.8.2. части 8.8.",T160=$BB$15),L160,0) -> 0 | BC160: =IF(AND(M160="пп.7 п.8.8.2. части 8.8.",T160=$BC$15),L160,0) -> 0 | BD160: =IF(AND(M160="пп.7 п.8.8.2. части 8.8.",T160=$BD$15),L160,0) -> 0 | BE160: =IF(AND(M160="пп.7 п.8.8.2. части 8.8.",T160=$BE$15),L160,0) -> 0 | BF160: =IF(AND(M160="пп.7 п.8.8.2. части 8.8.",T160=$BF$15),L160,0) -> 0 | BG160: =IF(AND(M160="пп.7 п.8.8.2. части 8.8.",T160=$BG$15),L160,0) -> 0 | BH160: =IF(AND(M160="пп.7 п.8.8.2. части 8.8.",T160=$BH$15),L160,0) -> 0 | BI160: =IF(AND(M160="пп.7 п.8.8.2. части 8.8.",T160=$BI$15),L160,0) -> 0 | BJ160: =IF(AND(M160="пп.7 п.8.8.2. части 8.8.",T160=$BJ$15),L160,0) -> 0 | BK160: =IF(AND(M160="пп.7 п.8.8.2. части 8.8.",T160=$BK$15),L160,0) -> 0 | BL160: =IF(AND(M160="пп.7 п.8.8.2. части 8.8.",T160=$BL$15),L160,0) -> 0 | BM160: =IF(AND(M160="пп.7 п.8.8.2. части 8.8.",T160=$BM$15),L160,0) -> 0 | BN160: =IF(AND(M160="пп.7 п.8.8.2. части 8.8.",T160=$BN$15),L160,0) -> 0 | BO160: =IF(AND(M160="пп.7 п.8.8.2. части 8.8.",T160=$BO$15),L160,0) -> 0 | BP160: =IF(AND(M160="пп.7 п.8.8.2. части 8.8.",T160=$BP$15),L160,0) -> 0 | BQ160: =IF(AND(M160="пп.7 п.8.8.2. части 8.8.",T160=$BQ$15),L160,0) -> 0 | BR160: =IF(AND(M160="пп.7 п.8.8.2. части 8.8.",T160=$BR$15),L160,0) -> 0 | BS160: =IF(AND(M160="пп.7 п.8.8.2. части 8.8.",T160=$BS$15),L160,0) -> 0 | BT160: =IF(AND(M160="пп.7 п.8.8.2. части 8.8.",T160=$BT$15),L160,0) -> 0 | BU160: =IF(AND(M160="пп.7 п.8.8.2. части 8.8.",T160=$BU$15),L160,0) -> 0 | BV160: =IF(AND(M160="пп.7 п.8.8.2. части 8.8.",T160=$BV$15),L160,0) -> 0 | BW160: =IF(AND(M160="пп.7 п.8.8.2. части 8.8.",T160=$BW$15),L160,0) -> 0 | CB160: =IF(AND(M160="пп.7 п.8.8.2. части 8.8.",T160=$CB$15),L160,0) -> 0
